Package: GenomicRanges Version: 1.61.6 Command: /Library/Frameworks/R.framework/Resources/bin/R CMD check --install=check:GenomicRanges.install-out.txt --library=/Library/Frameworks/R.framework/Resources/library --no-vignettes --timings GenomicRanges_1.61.6.tar.gz StartedAt: 2025-10-24 21:27:43 -0400 (Fri, 24 Oct 2025) EndedAt: 2025-10-24 21:32:19 -0400 (Fri, 24 Oct 2025) EllapsedTime: 275.1 seconds RetCode: 0 Status: OK CheckDir: GenomicRanges.Rcheck Warnings: 0