Package: GenomicRanges Version: 1.61.6 Command: /Library/Frameworks/R.framework/Resources/bin/R CMD build --keep-empty-dirs --no-resave-data GenomicRanges StartedAt: 2025-10-23 17:06:13 -0400 (Thu, 23 Oct 2025) EndedAt: 2025-10-23 17:10:09 -0400 (Thu, 23 Oct 2025) EllapsedTime: 236.6 seconds RetCode: 0 Status: OK PackageFile: GenomicRanges_1.61.6.tar.gz PackageFileSize: 1.301 MiB