Package: GenomicRanges Version: 1.61.6 Command: rm -rf GenomicRanges.buildbin-libdir && mkdir GenomicRanges.buildbin-libdir && /Users/biocbuild/BBS/utils/build-universal.sh GenomicRanges_1.61.6.tar.gz /Library/Frameworks/R.framework/Resources/bin/R GenomicRanges.buildbin-libdir StartedAt: 2025-10-24 01:36:18 -0400 (Fri, 24 Oct 2025) EndedAt: 2025-10-24 01:36:53 -0400 (Fri, 24 Oct 2025) EllapsedTime: 35.7 seconds RetCode: 0 Status: OK PackageFile: GenomicRanges_1.61.6.tgz PackageFileSize: 2.298 MiB