Package: GenomicPlot Version: 1.7.2 Command: /home/biocbuild/R/R/bin/R CMD INSTALL GenomicPlot StartedAt: 2025-10-16 22:04:10 -0000 (Thu, 16 Oct 2025) EndedAt: 2025-10-16 22:05:16 -0000 (Thu, 16 Oct 2025) EllapsedTime: 65.9 seconds RetCode: 0 Status: OK