Package: GenomicPlot Version: 1.7.2 Command: /home/biocbuild/R/R/bin/R CMD build --keep-empty-dirs --no-resave-data GenomicPlot StartedAt: 2025-10-17 01:28:13 -0000 (Fri, 17 Oct 2025) EndedAt: 2025-10-17 01:31:59 -0000 (Fri, 17 Oct 2025) EllapsedTime: 226.1 seconds RetCode: 0 Status: OK PackageFile: GenomicPlot_1.7.2.tar.gz PackageFileSize: 1.959 MiB