Package: GenomicPlot Version: 1.7.2 Command: F:\biocbuild\bbs-3.22-bioc\R\bin\R.exe CMD check --no-multiarch --install=check:GenomicPlot.install-out.txt --library=F:\biocbuild\bbs-3.22-bioc\R\library --no-vignettes --timings GenomicPlot_1.7.2.tar.gz StartedAt: 2025-08-15 03:35:24 -0400 (Fri, 15 Aug 2025) EndedAt: 2025-08-15 04:15:24 -0400 (Fri, 15 Aug 2025) EllapsedTime: 2400.3 seconds RetCode: None Status: TIMEOUT CheckDir: GenomicPlot.Rcheck Warnings: NA