Package: GenomicPlot Version: 1.7.2 Command: /home/biocbuild/bbs-3.22-bioc/R/bin/R CMD check --install=check:GenomicPlot.install-out.txt --library=/home/biocbuild/bbs-3.22-bioc/R/site-library --timings GenomicPlot_1.7.2.tar.gz StartedAt: 2025-10-20 00:17:08 -0400 (Mon, 20 Oct 2025) EndedAt: 2025-10-20 00:29:51 -0400 (Mon, 20 Oct 2025) EllapsedTime: 762.9 seconds RetCode: 0 Status: OK CheckDir: GenomicPlot.Rcheck Warnings: 0