Package: GenomicPlot Version: 1.7.2 Command: /Library/Frameworks/R.framework/Resources/bin/R CMD INSTALL GenomicPlot StartedAt: 2025-10-19 15:40:54 -0400 (Sun, 19 Oct 2025) EndedAt: 2025-10-19 15:42:10 -0400 (Sun, 19 Oct 2025) EllapsedTime: 75.5 seconds RetCode: 0 Status: OK