Package: GenomicPlot Version: 1.7.2 Command: /Library/Frameworks/R.framework/Resources/bin/R CMD check --install=check:GenomicPlot.install-out.txt --library=/Library/Frameworks/R.framework/Resources/library --no-vignettes --timings GenomicPlot_1.7.2.tar.gz StartedAt: 2025-10-19 22:36:41 -0400 (Sun, 19 Oct 2025) EndedAt: 2025-10-19 22:52:46 -0400 (Sun, 19 Oct 2025) EllapsedTime: 964.9 seconds RetCode: 0 Status: OK CheckDir: GenomicPlot.Rcheck Warnings: 0