Package: GenomicPlot Version: 1.7.2 Command: rm -rf GenomicPlot.buildbin-libdir && mkdir GenomicPlot.buildbin-libdir && /Users/biocbuild/BBS/utils/build-universal.sh GenomicPlot_1.7.2.tar.gz /Library/Frameworks/R.framework/Resources/bin/R GenomicPlot.buildbin-libdir StartedAt: 2025-10-20 03:11:02 -0400 (Mon, 20 Oct 2025) EndedAt: 2025-10-20 03:12:21 -0400 (Mon, 20 Oct 2025) EllapsedTime: 78.4 seconds RetCode: 0 Status: OK PackageFile: GenomicPlot_1.7.2.tgz PackageFileSize: 4.242 MiB