Package: GenomicOZone Version: 1.23.1 Command: F:\biocbuild\bbs-3.22-bioc\R\bin\R.exe CMD check --no-multiarch --install=check:GenomicOZone.install-out.txt --library=F:\biocbuild\bbs-3.22-bioc\R\library --no-vignettes --timings GenomicOZone_1.23.1.tar.gz StartedAt: 2025-08-15 03:34:59 -0400 (Fri, 15 Aug 2025) EndedAt: 2025-08-15 03:41:54 -0400 (Fri, 15 Aug 2025) EllapsedTime: 414.6 seconds RetCode: 0 Status: OK CheckDir: GenomicOZone.Rcheck Warnings: 0