Package: GenomicInteractions Version: 1.43.1 Command: /home/biocbuild/R/R/bin/R CMD INSTALL GenomicInteractions StartedAt: 2025-10-16 22:13:41 -0000 (Thu, 16 Oct 2025) EndedAt: 2025-10-16 22:15:28 -0000 (Thu, 16 Oct 2025) EllapsedTime: 107.1 seconds RetCode: 0 Status: OK