Package: GenomicInteractions Version: 1.43.1 Command: /home/biocbuild/R/R/bin/R CMD check --install=check:GenomicInteractions.install-out.txt --library=/home/biocbuild/R/R/site-library --no-vignettes --timings GenomicInteractions_1.43.1.tar.gz StartedAt: 2025-10-17 09:23:55 -0000 (Fri, 17 Oct 2025) EndedAt: 2025-10-17 09:31:40 -0000 (Fri, 17 Oct 2025) EllapsedTime: 464.2 seconds RetCode: 0 Status: OK CheckDir: GenomicInteractions.Rcheck Warnings: 0