Package: GenomicInteractions Version: 1.43.1 Command: /home/biocbuild/R/R/bin/R CMD build --keep-empty-dirs --no-resave-data GenomicInteractions StartedAt: 2025-10-17 01:28:02 -0000 (Fri, 17 Oct 2025) EndedAt: 2025-10-17 01:32:15 -0000 (Fri, 17 Oct 2025) EllapsedTime: 253.1 seconds RetCode: 0 Status: OK PackageFile: GenomicInteractions_1.43.1.tar.gz PackageFileSize: 3.327 MiB