Package: GenomicInteractions Version: 1.43.1 Command: /home/biocbuild/bbs-3.22-bioc/R/bin/R CMD INSTALL GenomicInteractions StartedAt: 2025-10-17 15:49:10 -0400 (Fri, 17 Oct 2025) EndedAt: 2025-10-17 15:50:37 -0400 (Fri, 17 Oct 2025) EllapsedTime: 87.0 seconds RetCode: 0 Status: OK