Package: GenomicInteractions Version: 1.43.1 Command: /Library/Frameworks/R.framework/Resources/bin/R CMD check --install=check:GenomicInteractions.install-out.txt --library=/Library/Frameworks/R.framework/Resources/library --no-vignettes --timings GenomicInteractions_1.43.1.tar.gz StartedAt: 2025-10-19 22:36:21 -0400 (Sun, 19 Oct 2025) EndedAt: 2025-10-19 22:45:50 -0400 (Sun, 19 Oct 2025) EllapsedTime: 569.4 seconds RetCode: 0 Status: OK CheckDir: GenomicInteractions.Rcheck Warnings: 0