Package: GenomicInteractions Version: 1.43.1 Command: rm -rf GenomicInteractions.buildbin-libdir && mkdir GenomicInteractions.buildbin-libdir && /Users/biocbuild/BBS/utils/build-universal.sh GenomicInteractions_1.43.1.tar.gz /Library/Frameworks/R.framework/Resources/bin/R GenomicInteractions.buildbin-libdir StartedAt: 2025-10-18 02:59:42 -0400 (Sat, 18 Oct 2025) EndedAt: 2025-10-18 03:01:44 -0400 (Sat, 18 Oct 2025) EllapsedTime: 121.2 seconds RetCode: 0 Status: OK PackageFile: GenomicInteractions_1.43.1.tgz PackageFileSize: 4.026 MiB