Package: GenomicInteractions Version: 1.43.1 Command: rm -rf GenomicInteractions.buildbin-libdir && mkdir GenomicInteractions.buildbin-libdir && /Users/biocbuild/BBS/utils/build-universal.sh GenomicInteractions_1.43.1.tar.gz /Library/Frameworks/R.framework/Resources/bin/R GenomicInteractions.buildbin-libdir StartedAt: 2025-10-17 23:09:47 -0400 (Fri, 17 Oct 2025) EndedAt: 2025-10-17 23:10:29 -0400 (Fri, 17 Oct 2025) EllapsedTime: 41.9 seconds RetCode: 0 Status: OK PackageFile: GenomicInteractions_1.43.1.tgz PackageFileSize: 4.028 MiB