Package: GenomicInteractions Version: 1.43.1 Maintainer: Liz Ing-Simmons MaintainerEmail: liz.ingsimmons at gmail.com git_url: https://git.bioconductor.org/packages/GenomicInteractions git_branch: devel git_last_commit: 4500b8f git_last_commit_date: 2025-07-22 20:08:33 -0400 (Tue, 22 Jul 2025)