Package: GenomicInteractionNodes Version: 1.13.1 Command: /home/biocbuild/R/R/bin/R CMD INSTALL GenomicInteractionNodes StartedAt: 2025-10-16 22:09:44 -0000 (Thu, 16 Oct 2025) EndedAt: 2025-10-16 22:10:29 -0000 (Thu, 16 Oct 2025) EllapsedTime: 44.2 seconds RetCode: 0 Status: OK