Package: GenomicInteractionNodes Version: 1.13.1 Command: /home/biocbuild/R/R/bin/R CMD check --install=check:GenomicInteractionNodes.install-out.txt --library=/home/biocbuild/R/R/site-library --no-vignettes --timings GenomicInteractionNodes_1.13.1.tar.gz StartedAt: 2025-10-17 09:23:06 -0000 (Fri, 17 Oct 2025) EndedAt: 2025-10-17 09:31:03 -0000 (Fri, 17 Oct 2025) EllapsedTime: 476.2 seconds RetCode: 0 Status: OK CheckDir: GenomicInteractionNodes.Rcheck Warnings: 0