Package: GenomicInteractionNodes Version: 1.13.1 Command: /home/biocbuild/R/R/bin/R CMD build --keep-empty-dirs --no-resave-data GenomicInteractionNodes StartedAt: 2025-10-17 01:27:46 -0000 (Fri, 17 Oct 2025) EndedAt: 2025-10-17 01:30:00 -0000 (Fri, 17 Oct 2025) EllapsedTime: 134.1 seconds RetCode: 0 Status: OK PackageFile: GenomicInteractionNodes_1.13.1.tar.gz PackageFileSize: 274.5 KiB