Package: GenomicInteractionNodes Version: 1.13.1 Command: /Library/Frameworks/R.framework/Resources/bin/R CMD INSTALL GenomicInteractionNodes StartedAt: 2025-10-19 15:37:39 -0400 (Sun, 19 Oct 2025) EndedAt: 2025-10-19 15:38:25 -0400 (Sun, 19 Oct 2025) EllapsedTime: 45.8 seconds RetCode: 0 Status: OK