Package: GenomicInteractionNodes Version: 1.13.1 Command: rm -rf GenomicInteractionNodes.buildbin-libdir && mkdir GenomicInteractionNodes.buildbin-libdir && /Users/biocbuild/BBS/utils/build-universal.sh GenomicInteractionNodes_1.13.1.tar.gz /Library/Frameworks/R.framework/Resources/bin/R GenomicInteractionNodes.buildbin-libdir StartedAt: 2025-10-20 03:11:01 -0400 (Mon, 20 Oct 2025) EndedAt: 2025-10-20 03:11:52 -0400 (Mon, 20 Oct 2025) EllapsedTime: 50.5 seconds RetCode: 0 Status: OK PackageFile: GenomicInteractionNodes_1.13.1.tgz PackageFileSize: 273.7 KiB