Package: GenomicInteractionNodes Version: 1.13.1 Command: /Library/Frameworks/R.framework/Resources/bin/R CMD INSTALL GenomicInteractionNodes StartedAt: 2025-10-20 15:21:14 -0400 (Mon, 20 Oct 2025) EndedAt: 2025-10-20 15:21:27 -0400 (Mon, 20 Oct 2025) EllapsedTime: 13.6 seconds RetCode: 0 Status: OK