Package: GenomicInteractionNodes Version: 1.13.1 Command: /Library/Frameworks/R.framework/Resources/bin/R CMD check --install=check:GenomicInteractionNodes.install-out.txt --library=/Library/Frameworks/R.framework/Resources/library --no-vignettes --timings GenomicInteractionNodes_1.13.1.tar.gz StartedAt: 2025-10-20 19:55:22 -0400 (Mon, 20 Oct 2025) EndedAt: 2025-10-20 19:57:57 -0400 (Mon, 20 Oct 2025) EllapsedTime: 154.7 seconds RetCode: 0 Status: OK CheckDir: GenomicInteractionNodes.Rcheck Warnings: 0