Package: GenomicInteractionNodes Version: 1.13.1 Command: /Library/Frameworks/R.framework/Resources/bin/R CMD build --keep-empty-dirs --no-resave-data GenomicInteractionNodes StartedAt: 2025-10-20 16:29:05 -0400 (Mon, 20 Oct 2025) EndedAt: 2025-10-20 16:29:53 -0400 (Mon, 20 Oct 2025) EllapsedTime: 47.5 seconds RetCode: 0 Status: OK PackageFile: GenomicInteractionNodes_1.13.1.tar.gz PackageFileSize: 248.4 KiB