Back to Multiple platform build/check report for BioC 3.22:   simplified   long
ABCDEF[G]HIJKLMNOPQRSTUVWXYZ

This page was generated on 2025-11-01 12:02 -0400 (Sat, 01 Nov 2025).

HostnameOSArch (*)R versionInstalled pkgs
nebbiolo2Linux (Ubuntu 24.04.3 LTS)x86_644.5.1 Patched (2025-08-23 r88802) -- "Great Square Root" 4901
lconwaymacOS 12.7.6 Montereyx86_644.5.1 Patched (2025-09-10 r88807) -- "Great Square Root" 4691
kjohnson3macOS 13.7.7 Venturaarm644.5.1 Patched (2025-09-10 r88807) -- "Great Square Root" 4637
Click on any hostname to see more info about the system (e.g. compilers)      (*) as reported by 'uname -p', except on Windows and Mac OS X

All results for package GenomicFiles


To the developers/maintainers of the GenomicFiles package:
- Allow up to 24 hours (and sometimes 48 hours) for your latest push to git@git.bioconductor.org:packages/GenomicFiles.git to reflect on this report. See Troubleshooting Build Report for more information.
- Use the following Renviron settings to reproduce errors and warnings.
- If 'R CMD check' started to fail recently on the Linux builder(s) over a missing dependency, add the missing dependency to 'Suggests:' in your DESCRIPTION file. See Renviron.bioc for more information.

raw results

Package 846/2361HostnameOS / ArchINSTALLBUILDCHECKBUILD BIN
GenomicFiles 1.46.0  (landing page)
Bioconductor Package Maintainer
Snapshot Date: 2025-10-31 13:45 -0400 (Fri, 31 Oct 2025)
git_url: https://git.bioconductor.org/packages/GenomicFiles
git_branch: RELEASE_3_22
git_last_commit: a7f3143
git_last_commit_date: 2025-10-29 10:19:18 -0400 (Wed, 29 Oct 2025)
nebbiolo2Linux (Ubuntu 24.04.3 LTS) / x86_64  OK    OK    OK  UNNEEDED, same version is already published
lconwaymacOS 12.7.6 Monterey / x86_64  OK    OK    OK    OK  UNNEEDED, same version is already published
kjohnson3macOS 13.7.7 Ventura / arm64  OK    OK    OK    OK  UNNEEDED, same version is already published



Results for Bioconductor software packages that depend directly on package GenomicFiles

QUICK STATSOS / ArchINSTALLBUILDCHECKBUILD BIN
nebbiolo2Linux (Ubuntu 24.04.3 LTS) / x86_64
008
008
0017
lconwaymacOS 12.7.6 Monterey / x86_64
008
008
0017
008
kjohnson3macOS 13.7.7 Ventura / arm64
008
008
0017
008
Package 1/8HostnameOS / ArchINSTALLBUILDCHECKBUILD BIN
CAGEfightR 1.30.0  (landing page)
Malte Thodberg
git_last_commit: eda75c3
git_last_commit_date: 2025-10-29 10:45:17 -0400
nebbiolo2Linux (Ubuntu 24.04.3 LTS) / x86_64  OK    OK    OK  UNNEEDED, same version is already published
lconwaymacOS 12.7.6 Monterey / x86_64  OK    OK    OK    OK  UNNEEDED, same version is already published
kjohnson3macOS 13.7.7 Ventura / arm64  OK    OK    OK    OK  UNNEEDED, same version is already published
Package 2/8HostnameOS / ArchINSTALLBUILDCHECKBUILD BIN
derfinder 1.44.0  (landing page)
Leonardo Collado-Torres
git_last_commit: 7fd222b
git_last_commit_date: 2025-10-29 10:21:48 -0400
nebbiolo2Linux (Ubuntu 24.04.3 LTS) / x86_64  OK    OK    OK  UNNEEDED, same version is already published
lconwaymacOS 12.7.6 Monterey / x86_64  OK    OK    OK    OK  UNNEEDED, same version is already published
kjohnson3macOS 13.7.7 Ventura / arm64  OK    OK    OK    OK  UNNEEDED, same version is already published
Package 3/8HostnameOS / ArchINSTALLBUILDCHECKBUILD BIN
gDNAx 1.8.0  (landing page)
Robert Castelo
git_last_commit: b09db45
git_last_commit_date: 2025-10-29 11:24:57 -0400
nebbiolo2Linux (Ubuntu 24.04.3 LTS) / x86_64  OK    OK    OK  UNNEEDED, same version is already published
lconwaymacOS 12.7.6 Monterey / x86_64  OK    OK    OK    OK  UNNEEDED, same version is already published
kjohnson3macOS 13.7.7 Ventura / arm64  OK    OK    OK    OK  UNNEEDED, same version is already published
Package 4/8HostnameOS / ArchINSTALLBUILDCHECKBUILD BIN
IntEREst 1.34.0  (landing page)
Ali Oghabian
git_last_commit: 8a4b0c3
git_last_commit_date: 2025-10-29 10:37:18 -0400
nebbiolo2Linux (Ubuntu 24.04.3 LTS) / x86_64  OK    OK    OK  UNNEEDED, same version is already published
lconwaymacOS 12.7.6 Monterey / x86_64  OK    OK    OK    OK  UNNEEDED, same version is already published
kjohnson3macOS 13.7.7 Ventura / arm64  OK    OK    OK    OK  UNNEEDED, same version is already published
Package 5/8HostnameOS / ArchINSTALLBUILDCHECKBUILD BIN
QuasR 1.50.0  (landing page)
Michael Stadler
git_last_commit: 3274f2d
git_last_commit_date: 2025-10-29 10:13:16 -0400
nebbiolo2Linux (Ubuntu 24.04.3 LTS) / x86_64  OK    OK    WARNINGS  UNNEEDED, same version is already published
lconwaymacOS 12.7.6 Monterey / x86_64  OK    OK    WARNINGS    OK  UNNEEDED, same version is already published
kjohnson3macOS 13.7.7 Ventura / arm64  OK    OK    WARNINGS    OK  UNNEEDED, same version is already published
Package 6/8HostnameOS / ArchINSTALLBUILDCHECKBUILD BIN
Rqc 1.44.0  (landing page)
Welliton Souza
git_last_commit: e28c456
git_last_commit_date: 2025-10-29 10:22:46 -0400
nebbiolo2Linux (Ubuntu 24.04.3 LTS) / x86_64  OK    OK    OK  UNNEEDED, same version is already published
lconwaymacOS 12.7.6 Monterey / x86_64  OK    OK    OK    OK  UNNEEDED, same version is already published
kjohnson3macOS 13.7.7 Ventura / arm64  OK    OK    OK    OK  UNNEEDED, same version is already published
Package 7/8HostnameOS / ArchINSTALLBUILDCHECKBUILD BIN
TFutils 1.30.0  (landing page)
Vincent Carey
git_last_commit: fc98f4d
git_last_commit_date: 2025-10-29 10:44:40 -0400
nebbiolo2Linux (Ubuntu 24.04.3 LTS) / x86_64  OK    OK    OK  UNNEEDED, same version is already published
lconwaymacOS 12.7.6 Monterey / x86_64  OK    OK    OK    OK  UNNEEDED, same version is already published
kjohnson3macOS 13.7.7 Ventura / arm64  OK    OK    OK    OK  UNNEEDED, same version is already published
Package 8/8HostnameOS / ArchINSTALLBUILDCHECKBUILD BIN
VCFArray 1.26.0  (landing page)
Qian Liu
git_last_commit: 830be92
git_last_commit_date: 2025-10-29 10:49:16 -0400
nebbiolo2Linux (Ubuntu 24.04.3 LTS) / x86_64  OK    OK    OK  UNNEEDED, same version is already published
lconwaymacOS 12.7.6 Monterey / x86_64  OK    OK    OK    OK  UNNEEDED, same version is already published
kjohnson3macOS 13.7.7 Ventura / arm64  OK    OK    OK    OK  UNNEEDED, same version is already published