Package: GenomicFeatures Version: 1.62.0 Command: /home/biocbuild/R/R/bin/R CMD build --keep-empty-dirs --no-resave-data GenomicFeatures StartedAt: 2025-11-14 02:03:15 -0000 (Fri, 14 Nov 2025) EndedAt: 2025-11-14 02:05:49 -0000 (Fri, 14 Nov 2025) EllapsedTime: 154.1 seconds RetCode: 0 Status: OK PackageFile: GenomicFeatures_1.62.0.tar.gz PackageFileSize: 583.5 KiB