Package: GenomicFeatures Version: 1.62.0 Command: /Library/Frameworks/R.framework/Resources/bin/R CMD INSTALL GenomicFeatures StartedAt: 2025-10-31 15:23:42 -0400 (Fri, 31 Oct 2025) EndedAt: 2025-10-31 15:23:57 -0400 (Fri, 31 Oct 2025) EllapsedTime: 15.0 seconds RetCode: 0 Status: OK