Package: GenomicFeatures Version: 1.62.0 Command: /Library/Frameworks/R.framework/Resources/bin/R CMD check --install=check:GenomicFeatures.install-out.txt --library=/Library/Frameworks/R.framework/Resources/library --no-vignettes --timings GenomicFeatures_1.62.0.tar.gz StartedAt: 2025-10-31 19:59:27 -0400 (Fri, 31 Oct 2025) EndedAt: 2025-10-31 20:03:35 -0400 (Fri, 31 Oct 2025) EllapsedTime: 247.8 seconds RetCode: 0 Status: OK CheckDir: GenomicFeatures.Rcheck Warnings: 0