Package: GenomicFeatures Version: 1.62.0 Command: /Library/Frameworks/R.framework/Resources/bin/R CMD build --keep-empty-dirs --no-resave-data GenomicFeatures StartedAt: 2025-10-31 16:33:49 -0400 (Fri, 31 Oct 2025) EndedAt: 2025-10-31 16:34:41 -0400 (Fri, 31 Oct 2025) EllapsedTime: 52.5 seconds RetCode: 0 Status: OK PackageFile: GenomicFeatures_1.62.0.tar.gz PackageFileSize: 558.7 KiB