Package: GenomicAlignments Version: 1.45.2 Command: F:\biocbuild\bbs-3.22-bioc\R\bin\R.exe CMD check --no-multiarch --install=check:GenomicAlignments.install-out.txt --library=F:\biocbuild\bbs-3.22-bioc\R\library --no-vignettes --timings GenomicAlignments_1.45.2.tar.gz StartedAt: 2025-08-15 03:33:33 -0400 (Fri, 15 Aug 2025) EndedAt: 2025-08-15 03:41:02 -0400 (Fri, 15 Aug 2025) EllapsedTime: 449.7 seconds RetCode: 0 Status: OK CheckDir: GenomicAlignments.Rcheck Warnings: 0