Package: GenomicAlignments Version: 1.45.5 Command: /Library/Frameworks/R.framework/Resources/bin/R CMD INSTALL GenomicAlignments StartedAt: 2025-10-28 15:28:30 -0400 (Tue, 28 Oct 2025) EndedAt: 2025-10-28 15:29:18 -0400 (Tue, 28 Oct 2025) EllapsedTime: 48.0 seconds RetCode: 0 Status: OK