Package: GenomicAlignments Version: 1.45.5 Command: /Library/Frameworks/R.framework/Resources/bin/R CMD build --keep-empty-dirs --no-resave-data GenomicAlignments StartedAt: 2025-10-27 17:03:15 -0400 (Mon, 27 Oct 2025) EndedAt: 2025-10-27 17:05:17 -0400 (Mon, 27 Oct 2025) EllapsedTime: 122.3 seconds RetCode: 0 Status: OK PackageFile: GenomicAlignments_1.45.5.tar.gz PackageFileSize: 2.149 MiB