Package: GenomeInfoDb Version: 1.45.12 Command: /home/biocbuild/R/R/bin/R CMD INSTALL GenomeInfoDb StartedAt: 2025-10-02 20:35:00 -0000 (Thu, 02 Oct 2025) EndedAt: 2025-10-02 20:35:12 -0000 (Thu, 02 Oct 2025) EllapsedTime: 12.5 seconds RetCode: 0 Status: OK