Package: GenomeInfoDb Version: 1.45.12 Command: /home/biocbuild/R/R/bin/R CMD build --keep-empty-dirs --no-resave-data GenomeInfoDb StartedAt: 2025-10-03 00:09:22 -0000 (Fri, 03 Oct 2025) EndedAt: 2025-10-03 00:09:57 -0000 (Fri, 03 Oct 2025) EllapsedTime: 35.0 seconds RetCode: 0 Status: OK PackageFile: GenomeInfoDb_1.45.12.tar.gz PackageFileSize: 3.489 MiB