Package: GeneticsPed Version: 1.71.0 Command: /home/biocbuild/bbs-3.22-bioc/R/bin/R CMD build --keep-empty-dirs --no-resave-data --md5 GeneticsPed StartedAt: 2025-10-01 18:08:37 -0400 (Wed, 01 Oct 2025) EndedAt: 2025-10-01 18:09:00 -0400 (Wed, 01 Oct 2025) EllapsedTime: 23.1 seconds RetCode: 0 Status: OK PackageFile: GeneticsPed_1.71.0.tar.gz PackageFileSize: 675.9 KiB