Package: GeneticsPed Version: 1.71.0 Command: /Library/Frameworks/R.framework/Resources/bin/R CMD INSTALL GeneticsPed StartedAt: 2025-10-19 15:08:34 -0400 (Sun, 19 Oct 2025) EndedAt: 2025-10-19 15:09:07 -0400 (Sun, 19 Oct 2025) EllapsedTime: 33.2 seconds RetCode: 0 Status: OK