Package: GeneticsPed Version: 1.71.0 Command: /Library/Frameworks/R.framework/Resources/bin/R CMD check --install=check:GeneticsPed.install-out.txt --library=/Library/Frameworks/R.framework/Resources/library --no-vignettes --timings GeneticsPed_1.71.0.tar.gz StartedAt: 2025-10-19 22:34:38 -0400 (Sun, 19 Oct 2025) EndedAt: 2025-10-19 22:35:45 -0400 (Sun, 19 Oct 2025) EllapsedTime: 67.4 seconds RetCode: 0 Status: WARNINGS CheckDir: GeneticsPed.Rcheck Warnings: 1