Package: GeneticsPed Version: 1.71.0 Command: rm -rf GeneticsPed.buildbin-libdir && mkdir GeneticsPed.buildbin-libdir && /Users/biocbuild/BBS/utils/build-universal.sh GeneticsPed_1.71.0.tar.gz /Library/Frameworks/R.framework/Resources/bin/R GeneticsPed.buildbin-libdir StartedAt: 2025-10-20 03:10:46 -0400 (Mon, 20 Oct 2025) EndedAt: 2025-10-20 03:11:10 -0400 (Mon, 20 Oct 2025) EllapsedTime: 24.4 seconds RetCode: 0 Status: OK PackageFile: GeneticsPed_1.71.0.tgz PackageFileSize: 827 KiB