Package: GeneTonic Version: 3.3.3 Command: /home/biocbuild/R/R/bin/R CMD build --keep-empty-dirs --no-resave-data GeneTonic StartedAt: 2025-10-20 23:58:13 -0000 (Mon, 20 Oct 2025) EndedAt: 2025-10-21 00:00:55 -0000 (Tue, 21 Oct 2025) EllapsedTime: 162.1 seconds RetCode: 0 Status: OK PackageFile: GeneTonic_3.3.3.tar.gz PackageFileSize: 8.096 MiB