Package: GeneTonic Version: 3.3.2 Command: /Library/Frameworks/R.framework/Resources/bin/R CMD build --keep-empty-dirs --no-resave-data GeneTonic StartedAt: 2025-10-03 17:08:09 -0400 (Fri, 03 Oct 2025) EndedAt: 2025-10-03 17:08:22 -0400 (Fri, 03 Oct 2025) EllapsedTime: 13.8 seconds RetCode: 1 Status: ERROR PackageFile: None PackageFileSize: NA