Package: GeneStructureTools Version: 1.30.0 Command: /home/biocbuild/R/R/bin/R CMD INSTALL GeneStructureTools StartedAt: 2025-11-13 22:03:44 -0000 (Thu, 13 Nov 2025) EndedAt: 2025-11-13 22:04:51 -0000 (Thu, 13 Nov 2025) EllapsedTime: 66.9 seconds RetCode: 0 Status: OK