Package: GeneSelectMMD Version: 2.53.0 Command: /home/biocbuild/R/R/bin/R CMD check --install=check:GeneSelectMMD.install-out.txt --library=/home/biocbuild/R/R/site-library --no-vignettes --timings GeneSelectMMD_2.53.0.tar.gz StartedAt: 2025-10-03 07:23:08 -0000 (Fri, 03 Oct 2025) EndedAt: 2025-10-03 07:23:44 -0000 (Fri, 03 Oct 2025) EllapsedTime: 36.0 seconds RetCode: 0 Status: WARNINGS CheckDir: GeneSelectMMD.Rcheck Warnings: 1