Package: GeneSelectMMD Version: 2.53.0 Command: rm -rf GeneSelectMMD.buildbin-libdir && mkdir GeneSelectMMD.buildbin-libdir && F:\biocbuild\bbs-3.22-bioc\R\bin\R.exe CMD INSTALL --build --library=GeneSelectMMD.buildbin-libdir GeneSelectMMD_2.53.0.tar.gz StartedAt: 2025-08-15 10:20:28 -0400 (Fri, 15 Aug 2025) EndedAt: 2025-08-15 10:21:02 -0400 (Fri, 15 Aug 2025) EllapsedTime: 34.1 seconds RetCode: 0 Status: OK PackageFile: GeneSelectMMD_2.53.0.zip PackageFileSize: 585.4 KiB