Package: GeneRegionScan Version: 1.65.0 Command: /home/biocbuild/R/R/bin/R CMD build --keep-empty-dirs --no-resave-data GeneRegionScan StartedAt: 2025-10-17 01:25:07 -0000 (Fri, 17 Oct 2025) EndedAt: 2025-10-17 01:25:55 -0000 (Fri, 17 Oct 2025) EllapsedTime: 48.0 seconds RetCode: 0 Status: OK PackageFile: GeneRegionScan_1.65.0.tar.gz PackageFileSize: 7.477 MiB