Package: GeneRegionScan Version: 1.65.0 Command: F:\biocbuild\bbs-3.22-bioc\R\bin\R.exe CMD check --no-multiarch --install=check:GeneRegionScan.install-out.txt --library=F:\biocbuild\bbs-3.22-bioc\R\library --no-vignettes --timings GeneRegionScan_1.65.0.tar.gz StartedAt: 2025-08-15 03:31:29 -0400 (Fri, 15 Aug 2025) EndedAt: 2025-08-15 03:34:23 -0400 (Fri, 15 Aug 2025) EllapsedTime: 174.6 seconds RetCode: 0 Status: OK CheckDir: GeneRegionScan.Rcheck Warnings: 0