Package: GeneRegionScan Version: 1.65.0 Command: /Library/Frameworks/R.framework/Resources/bin/R CMD INSTALL GeneRegionScan StartedAt: 2025-10-19 15:08:29 -0400 (Sun, 19 Oct 2025) EndedAt: 2025-10-19 15:08:35 -0400 (Sun, 19 Oct 2025) EllapsedTime: 5.6 seconds RetCode: 0 Status: OK