Package: GeneRegionScan Version: 1.65.0 Command: /Library/Frameworks/R.framework/Resources/bin/R CMD check --install=check:GeneRegionScan.install-out.txt --library=/Library/Frameworks/R.framework/Resources/library --no-vignettes --timings GeneRegionScan_1.65.0.tar.gz StartedAt: 2025-10-19 19:50:23 -0400 (Sun, 19 Oct 2025) EndedAt: 2025-10-19 19:51:12 -0400 (Sun, 19 Oct 2025) EllapsedTime: 49.7 seconds RetCode: 0 Status: OK CheckDir: GeneRegionScan.Rcheck Warnings: 0